BEGIN:VCALENDAR
VERSION:2.0
PRODID:-//hacksw/handcal//NONSGML v1.0//EN
BEGIN:VEVENT
SUMMARY:Ma premiere competition dans mon club
UID:7b5b1ea1-157a-42d2-bb58-fd675d7560cf
DTSTART:20260408T104500Z
DTEND:20260408T120000Z
LOCATION:Localisation   
CATEGORIES:Sportif
STATUS:
DESCRIPTION:Les vacances de Printemps arrivent a grands
 pas! <div>Pour feter cela nous invitons vos enfants a participer a
 des mini-jeux et mini-competitions. Cette seance ludique se terminera
 par un gouter. </div><div>Merci de nous confirmer la presence (ou
 l'absence) de votre enfant afin d'organiser cet evenement au
 mieux. </div><div><br></div><div>Sportivement, </div><div><br></div><div>Le
 bureau</div>
URL;VALUE=URI:https://www.caudan-natation.com/evenements/2026/04/08/ma-premiere-competition-dans-mon-club-2436316
END:VEVENT
END:VCALENDAR
