BEGIN:VCALENDAR
VERSION:2.0
PRODID:-//hacksw/handcal//NONSGML v1.0//EN
BEGIN:VEVENT
SUMMARY:STAGE J1BIS : 20H 21h15
UID:79a4767d-cd88-46c2-92f6-e0d5810485c5
DTSTART:20260421T180000Z
DTEND:20260421T191500Z
LOCATION:Localisation   
CATEGORIES:Sportif
STATUS:
URL;VALUE=URI:https://www.caudan-natation.com/evenements/2026/04/21/stage-j1bis-20h-21h15-2440104
END:VEVENT
END:VCALENDAR
