BEGIN:VCALENDAR
VERSION:2.0
PRODID:-//hacksw/handcal//NONSGML v1.0//EN
BEGIN:VEVENT
SUMMARY:STAGE NATATION ADULTE : 19H30 a 21H00
UID:80a36785-304f-45bc-b4f1-f3b951e1e96c
DTSTART:20260423T173000Z
DTEND:20260423T190000Z
LOCATION:Localisation   
CATEGORIES:Sportif
STATUS:
URL;VALUE=URI:https://www.caudan-natation.com/evenements/2026/04/23/stage-natation-adulte-19h30-a-21h00-2436748
END:VEVENT
END:VCALENDAR
