BEGIN:VCALENDAR
VERSION:2.0
PRODID:-//hacksw/handcal//NONSGML v1.0//EN
BEGIN:VEVENT
SUMMARY:CHALLENGE AVENIR - LORIENT
UID:ae42440c-9d60-44b2-af65-a827f192311b
DTSTART:20260426T063000Z
DTEND:20260426T103000Z
LOCATION:Localisation   
CATEGORIES:Sportif
STATUS:
DESCRIPTION:<table style="width:357px;"
 width="357">
 	<colgroup>
 		<col style="width:268pt;"
 width="357">
 	</colgroup>
 	<tbody>
 		<tr>
 			<td class="xl71"
 style="height:21px;width:357px;text-align:center;padding-left:1px;background-color:#92d050;"><span
 style="font-size:15px;"><span style="font-weight:700;"><span
 style="color:#000000;"><span style="font-style:normal;"><span
 style="text-decoration:none;"><span style="font-family:Calibri,
 sans-serif;">PLOT 3
 AVENIR </span></span></span></span></span></span></td>
 		</tr>
 		<tr>
 			<td
 class="xl70"
 style="height:20px;text-align:center;padding-left:1px;background-color:#d9d9d9;"><span
 style="font-size:15px;"><span style="color:#000000;"><span
 style="font-weight:400;"><span style="font-style:normal;"><span
 style="text-decoration:none;"><span style="font-family:Calibri,
 sans-serif;">MATIN</span></span></span></span></span></span></td>
 		</tr>
 		<tr>
 			<td
 class="xl72"
 style="height:19px;text-align:center;padding-left:1px;"><span
 style="font-size:15px;"><span style="font-weight:700;"><span
 style="color:#000000;"><span style="font-style:normal;"><span
 style="text-decoration:none;"><span style="font-family:Calibri,
 sans-serif;">3 courses individuelles par
 nageur</span></span></span></span></span></span></td>
 		</tr>
 		<tr>
 			<td
 class="xl68"
 style="height:19px;text-align:center;padding-left:1px;"><span
 style="font-size:15px;"><span style="color:#000000;"><span
 style="font-weight:400;"><span style="font-style:normal;"><span
 style="text-decoration:none;"><span style="font-family:Calibri,
 sans-serif;">200 NL OU 400 NL (tps limite
 8min)</span></span></span></span></span></span></td>
 		</tr>
 		<tr>
 			<td
 class="xl68"
 style="height:20px;text-align:center;padding-left:1px;"><span
 style="font-size:15px;"><span style="color:#000000;"><span
 style="font-weight:400;"><span style="font-style:normal;"><span
 style="text-decoration:none;"><span style="font-family:Calibri,
 sans-serif;">50 BRA OU 100
 BRA</span></span></span></span></span></span></td>
 		</tr>
 		<tr>
 			<td
 class="xl68"
 style="height:19px;text-align:center;padding-left:1px;"><span
 style="font-size:15px;"><span style="color:#000000;"><span
 style="font-weight:400;"><span style="font-style:normal;"><span
 style="text-decoration:none;"><span style="font-family:Calibri,
 sans-serif;">50 DOS OU 100
 DOS</span></span></span></span></span></span></td>
 		</tr>
 		<tr>
 			<td
 class="xl68"
 style="height:19px;text-align:center;padding-left:1px;"><span
 style="font-size:15px;"><span style="color:#000000;"><span
 style="font-weight:400;"><span style="font-style:normal;"><span
 style="text-decoration:none;"><span style="font-family:Calibri,
 sans-serif;">50 PAP OU 100
 PAP</span></span></span></span></span></span></td>
 		</tr>
 		<tr>
 			<td
 class="xl68"
 style="height:19px;text-align:center;padding-left:1px;"><span
 style="font-size:15px;"><span style="color:#000000;"><span
 style="font-weight:400;"><span style="font-style:normal;"><span
 style="text-decoration:none;"><span style="font-family:Calibri,
 sans-serif;">100 4N OU 200
 4N</span></span></span></span></span></span></td>
 		</tr>
 		<tr>
 			<td
 class="xl69"
 style="height:21px;text-align:center;padding-left:1px;"><span
 style="font-size:15px;"><span style="color:#000000;"><span
 style="font-weight:400;"><span style="font-style:normal;"><span
 style="text-decoration:none;"><span style="font-family:Calibri,
 sans-serif;">4X50 NL
 D/M/MIXTES</span></span></span></span></span></span></td>
 		</tr>
 	</tbody>
 </table>
URL;VALUE=URI:https://www.caudan-natation.com/evenements/2026/04/26/challenge-avenir-lorient-2337188
END:VEVENT
END:VCALENDAR
